BEGIN:VCALENDAR
VERSION:2.0
PRODID:-//DirtSportsWorld - ECPv6.15.17.1//NONSGML v1.0//EN
CALSCALE:GREGORIAN
METHOD:PUBLISH
X-WR-CALNAME:DirtSportsWorld
X-ORIGINAL-URL:https://dirtsportsworld.com
X-WR-CALDESC:Events for DirtSportsWorld
REFRESH-INTERVAL;VALUE=DURATION:PT1H
X-Robots-Tag:noindex
X-PUBLISHED-TTL:PT1H
BEGIN:VTIMEZONE
TZID:America/Los_Angeles
BEGIN:DAYLIGHT
TZOFFSETFROM:-0800
TZOFFSETTO:-0700
TZNAME:PDT
DTSTART:20240310T100000
END:DAYLIGHT
BEGIN:STANDARD
TZOFFSETFROM:-0700
TZOFFSETTO:-0800
TZNAME:PST
DTSTART:20241103T090000
END:STANDARD
BEGIN:DAYLIGHT
TZOFFSETFROM:-0800
TZOFFSETTO:-0700
TZNAME:PDT
DTSTART:20250309T100000
END:DAYLIGHT
BEGIN:STANDARD
TZOFFSETFROM:-0700
TZOFFSETTO:-0800
TZNAME:PST
DTSTART:20251102T090000
END:STANDARD
BEGIN:DAYLIGHT
TZOFFSETFROM:-0800
TZOFFSETTO:-0700
TZNAME:PDT
DTSTART:20260308T100000
END:DAYLIGHT
BEGIN:STANDARD
TZOFFSETFROM:-0700
TZOFFSETTO:-0800
TZNAME:PST
DTSTART:20261101T090000
END:STANDARD
BEGIN:DAYLIGHT
TZOFFSETFROM:-0800
TZOFFSETTO:-0700
TZNAME:PDT
DTSTART:20270314T100000
END:DAYLIGHT
BEGIN:STANDARD
TZOFFSETFROM:-0700
TZOFFSETTO:-0800
TZNAME:PST
DTSTART:20271107T090000
END:STANDARD
END:VTIMEZONE
BEGIN:VEVENT
DTSTART;VALUE=DATE:20260627
DTEND;VALUE=DATE:20260628
DTSTAMP:20260424T055234
CREATED:20260324T191613Z
LAST-MODIFIED:20260324T191613Z
UID:15271-1782518400-1782604799@dirtsportsworld.com
SUMMARY:Off Road Nights Dirt Lifestyle Expo
DESCRIPTION:
URL:https://dirtsportsworld.com/event/off-road-nights-dirt-lifestyle-expo/
LOCATION:Temecula Promenade\, 40820 Winchester Rd\, Temecula\, CA\, 92591\, United States
CATEGORIES:DESERT RACING,UTV
ATTACH;FMTTYPE=image/jpeg:https://dirtsportsworld.com/wp-content/uploads/2026/03/ORN-Logo.jpg
END:VEVENT
BEGIN:VEVENT
DTSTART;VALUE=DATE:20260624
DTEND;VALUE=DATE:20260629
DTSTAMP:20260424T055234
CREATED:20260225T190200Z
LAST-MODIFIED:20260225T190200Z
UID:15130-1782259200-1782691199@dirtsportsworld.com
SUMMARY:Legacy Baja Nevada
DESCRIPTION:
URL:https://dirtsportsworld.com/event/legacy-baja-nevada-2/
LOCATION:CA
CATEGORIES:DESERT RACING
ATTACH;FMTTYPE=image/jpeg:https://dirtsportsworld.com/wp-content/uploads/2020/09/LegacyRacingLogo.jpg
END:VEVENT
BEGIN:VEVENT
DTSTART;VALUE=DATE:20260619
DTEND;VALUE=DATE:20260622
DTSTAMP:20260424T055234
CREATED:20260218T062902Z
LAST-MODIFIED:20260218T062902Z
UID:15077-1781827200-1782086399@dirtsportsworld.com
SUMMARY:Champ Off Road Forest County Potawatami Brush Run  (Crandon\, WI)
DESCRIPTION:
URL:https://dirtsportsworld.com/event/champ-off-road-forest-county-potawatami-brush-run-crandon-wi/
LOCATION:CA
CATEGORIES:SHORTCOURSE RACING
ATTACH;FMTTYPE=image/jpeg:https://dirtsportsworld.com/wp-content/uploads/2023/01/ChampOffRoadLogo.jpg
END:VEVENT
BEGIN:VEVENT
DTSTART;VALUE=DATE:20260603
DTEND;VALUE=DATE:20260608
DTSTAMP:20260424T055234
CREATED:20250912T162112Z
LAST-MODIFIED:20250912T162112Z
UID:14065-1780444800-1780876799@dirtsportsworld.com
SUMMARY:SCORE Baja 500 (Ensenada\, MX)
DESCRIPTION:
URL:https://dirtsportsworld.com/event/score-baja-500-ensenada-mx-2/
LOCATION:ensenada\, Baja California\, Mexico
CATEGORIES:DESERT RACING,MOTO
ATTACH;FMTTYPE=image/jpeg:https://dirtsportsworld.com/wp-content/uploads/2023/01/SCORE-International-Logo.jpg
END:VEVENT
BEGIN:VEVENT
DTSTART;VALUE=DATE:20260529
DTEND;VALUE=DATE:20260601
DTSTAMP:20260424T055234
CREATED:20260218T062708Z
LAST-MODIFIED:20260218T062708Z
UID:15075-1780012800-1780271999@dirtsportsworld.com
SUMMARY:Champ Off Road Antigo Off Road National   (Antigo\,WI)
DESCRIPTION:
URL:https://dirtsportsworld.com/event/champ-off-road-antigo-off-road-national-antigowi/
LOCATION:Antigo Roaring Lions Raceway\, N1696 US-45\, Antigo\, WI\, 54409\, United States
CATEGORIES:SHORTCOURSE RACING
ATTACH;FMTTYPE=image/jpeg:https://dirtsportsworld.com/wp-content/uploads/2023/01/ChampOffRoadLogo.jpg
END:VEVENT
BEGIN:VEVENT
DTSTART;VALUE=DATE:20260501
DTEND;VALUE=DATE:20260504
DTSTAMP:20260424T055234
CREATED:20260218T062152Z
LAST-MODIFIED:20260218T062152Z
UID:15073-1777593600-1777852799@dirtsportsworld.com
SUMMARY:Championship Off Road Show Me Off Road Shootout (Wheatland\, MO)
DESCRIPTION:
URL:https://dirtsportsworld.com/event/championship-off-road-show-me-off-road-shootout-wheatland-mo/
LOCATION:Lucas Oil Speedway\, Search Results 18842 Speedway Dr\, Wheatland\, MO\, 65779\, United States
CATEGORIES:SHORTCOURSE RACING
ATTACH;FMTTYPE=image/jpeg:https://dirtsportsworld.com/wp-content/uploads/2023/01/ChampOffRoadLogo.jpg
END:VEVENT
BEGIN:VEVENT
DTSTART;VALUE=DATE:20260430
DTEND;VALUE=DATE:20260502
DTSTAMP:20260424T055234
CREATED:20251006T221614Z
LAST-MODIFIED:20251006T221614Z
UID:14235-1777507200-1777679999@dirtsportsworld.com
SUMMARY:NORRA Mexican 1000 (Ensenda-Cabo)
DESCRIPTION:
URL:https://dirtsportsworld.com/event/norra-mexican-1000-ensenda-cabo/
LOCATION:ensenada\, Baja California\, Mexico
ATTACH;FMTTYPE=image/jpeg:https://dirtsportsworld.com/wp-content/uploads/2021/10/NORRA-LOGO.jpg
END:VEVENT
BEGIN:VEVENT
DTSTART;VALUE=DATE:20260422
DTEND;VALUE=DATE:20260427
DTSTAMP:20260424T055234
CREATED:20250911T213617Z
LAST-MODIFIED:20250911T213617Z
UID:14032-1776816000-1777247999@dirtsportsworld.com
SUMMARY:BITD/UNLTD Silver State 300 (Tonopah\, NV)
DESCRIPTION:
URL:https://dirtsportsworld.com/event/bitd-unltd-silver-state-300-tonopah-nv/
LOCATION:Tonopah\, Tonopah\, NV\, United States
CATEGORIES:DESERT RACING
ATTACH;FMTTYPE=image/jpeg:https://dirtsportsworld.com/wp-content/uploads/2021/10/best-in-the-desert-logo-final.jpg
END:VEVENT
BEGIN:VEVENT
DTSTART;VALUE=DATE:20260417
DTEND;VALUE=DATE:20260420
DTSTAMP:20260424T055234
CREATED:20250912T160719Z
LAST-MODIFIED:20260219T163927Z
UID:14061-1776384000-1776643199@dirtsportsworld.com
SUMMARY:CORR Racing Rounds 9&10 (Firebird Raceway)
DESCRIPTION:
URL:https://dirtsportsworld.com/event/corr-racing-rounds-910-firebird-raceway/
LOCATION:Firebird Raceway\, 20000 S Maricopa Rd\, Chandler\, AZ\, 85226\, United States
CATEGORIES:UTV
ATTACH;FMTTYPE=image/jpeg:https://dirtsportsworld.com/wp-content/uploads/2025/09/CORR-Racing.jpg
END:VEVENT
BEGIN:VEVENT
DTSTART;VALUE=DATE:20260416
DTEND;VALUE=DATE:20260420
DTSTAMP:20260424T055234
CREATED:20260225T185958Z
LAST-MODIFIED:20260225T185958Z
UID:15128-1776297600-1776643199@dirtsportsworld.com
SUMMARY:LEGACY Battleground
DESCRIPTION:
URL:https://dirtsportsworld.com/event/legacy-battleground/
LOCATION:Laughlin\, Laughlin\, NV\, United States
CATEGORIES:DESERT RACING
ATTACH;FMTTYPE=image/jpeg:https://dirtsportsworld.com/wp-content/uploads/2020/09/LegacyRacingLogo.jpg
END:VEVENT
BEGIN:VEVENT
DTSTART;VALUE=DATE:20260327
DTEND;VALUE=DATE:20260330
DTSTAMP:20260424T055234
CREATED:20250912T160528Z
LAST-MODIFIED:20260319T180149Z
UID:14059-1774569600-1774828799@dirtsportsworld.com
SUMMARY:CORR Racing Rounds 7&8 (Firebird Motorsports Park)
DESCRIPTION:
URL:https://dirtsportsworld.com/event/corr-racing-rounds-78-sbc-fairgrounds/
LOCATION:Firebird Raceway\, 20000 S Maricopa Rd\, Chandler\, AZ\, 85226\, United States
CATEGORIES:UTV
ATTACH;FMTTYPE=image/jpeg:https://dirtsportsworld.com/wp-content/uploads/2025/09/CORR-Racing.jpg
END:VEVENT
BEGIN:VEVENT
DTSTART;VALUE=DATE:20260325
DTEND;VALUE=DATE:20260330
DTSTAMP:20260424T055234
CREATED:20250912T161938Z
LAST-MODIFIED:20250912T161938Z
UID:14063-1774396800-1774828799@dirtsportsworld.com
SUMMARY:SCORE San Felipe 250 (San Felipe\, MX)
DESCRIPTION:
URL:https://dirtsportsworld.com/event/score-san-felipe-250-san-felipe-mx/
LOCATION:San Felipe\, Baja\, Mexico
CATEGORIES:DESERT RACING,MOTO
ATTACH;FMTTYPE=image/jpeg:https://dirtsportsworld.com/wp-content/uploads/2023/01/SCORE-International-Logo.jpg
END:VEVENT
BEGIN:VEVENT
DTSTART;VALUE=DATE:20260304
DTEND;VALUE=DATE:20260309
DTSTAMP:20260424T055234
CREATED:20250911T213213Z
LAST-MODIFIED:20250911T213213Z
UID:14030-1772582400-1773014399@dirtsportsworld.com
SUMMARY:The Mint 400 (Las Vegas)
DESCRIPTION:
URL:https://dirtsportsworld.com/event/the-mint-400-las-vegas/
LOCATION:CA
CATEGORIES:DESERT RACING
ATTACH;FMTTYPE=image/jpeg:https://dirtsportsworld.com/wp-content/uploads/2023/02/mint-400-Web.jpg
END:VEVENT
BEGIN:VEVENT
DTSTART;VALUE=DATE:20260213
DTEND;VALUE=DATE:20260216
DTSTAMP:20260424T055234
CREATED:20250912T160343Z
LAST-MODIFIED:20250912T160343Z
UID:14057-1770940800-1771199999@dirtsportsworld.com
SUMMARY:CORR Racing Rounds 5&6 (Glen Helen)
DESCRIPTION:
URL:https://dirtsportsworld.com/event/corr-racing-rounds-56-glen-helen/
LOCATION:Glen Helen Raceway\, 18585 Verdemont Ranch Rd\, San Bernardino\, CA\, 92407\, United States
CATEGORIES:UTV
ATTACH;FMTTYPE=image/jpeg:https://dirtsportsworld.com/wp-content/uploads/2025/09/CORR-Racing.jpg
END:VEVENT
BEGIN:VEVENT
DTSTART;VALUE=DATE:20260122
DTEND;VALUE=DATE:20260208
DTSTAMP:20260424T055234
CREATED:20260103T195152Z
LAST-MODIFIED:20260103T195152Z
UID:14748-1769040000-1770508799@dirtsportsworld.com
SUMMARY:King of the Hammers- Johnson Valley
DESCRIPTION:
URL:https://dirtsportsworld.com/event/king-of-the-hammers-johnson-valley/
LOCATION:Johnson Valley/Means Dry Lake\, Landers\, CA\, United States
CATEGORIES:ROCK CRAWLING
ATTACH;FMTTYPE=image/jpeg:https://dirtsportsworld.com/wp-content/uploads/2026/01/KOH-Logo.jpg
END:VEVENT
BEGIN:VEVENT
DTSTART;VALUE=DATE:20260121
DTEND;VALUE=DATE:20260126
DTSTAMP:20260424T055234
CREATED:20250911T212752Z
LAST-MODIFIED:20250911T212752Z
UID:14028-1768953600-1769385599@dirtsportsworld.com
SUMMARY:UNLTD/BITD Parker 400
DESCRIPTION:
URL:https://dirtsportsworld.com/event/unltd-bitd-parker-400/
LOCATION:Parker\, AZ\, Parker\, AZ\, United States
CATEGORIES:DESERT RACING
ATTACH;FMTTYPE=image/jpeg:https://dirtsportsworld.com/wp-content/uploads/2023/11/UNLTD_Web.jpg
END:VEVENT
BEGIN:VEVENT
DTSTART;VALUE=DATE:20251212
DTEND;VALUE=DATE:20251215
DTSTAMP:20260424T055234
CREATED:20250912T160104Z
LAST-MODIFIED:20250912T160104Z
UID:14055-1765497600-1765756799@dirtsportsworld.com
SUMMARY:CORR Racing Rounds 3&4 (Firebird Raceway)
DESCRIPTION:
URL:https://dirtsportsworld.com/event/corr-racing-rounds-34-firebird-raceway/
LOCATION:Firebird Raceway\, 20000 S Maricopa Rd\, Chandler\, AZ\, 85226\, United States
CATEGORIES:UTV
ATTACH;FMTTYPE=image/jpeg:https://dirtsportsworld.com/wp-content/uploads/2025/09/CORR-Racing.jpg
END:VEVENT
BEGIN:VEVENT
DTSTART;VALUE=DATE:20251205
DTEND;VALUE=DATE:20251208
DTSTAMP:20260424T055234
CREATED:20250820T183604Z
LAST-MODIFIED:20250820T183604Z
UID:13880-1764892800-1765151999@dirtsportsworld.com
SUMMARY:The Dirt Expo (Scottsdale)
DESCRIPTION:
URL:https://dirtsportsworld.com/event/the-dirt-expo-scottsdale/
LOCATION:CA
CATEGORIES:UTV
END:VEVENT
BEGIN:VEVENT
DTSTART;VALUE=DATE:20251203
DTEND;VALUE=DATE:20251208
DTSTAMP:20260424T055234
CREATED:20250911T214845Z
LAST-MODIFIED:20250911T214845Z
UID:14042-1764720000-1765151999@dirtsportsworld.com
SUMMARY:Legacy VT Desert Showdown (Pahrump NV)
DESCRIPTION:
URL:https://dirtsportsworld.com/event/legacy-vt-desert-showdown-pahrump-nv/
LOCATION:Pahrump\, NV\, pahrump\, NV\, United States
CATEGORIES:DESERT RACING
ATTACH;FMTTYPE=image/jpeg:https://dirtsportsworld.com/wp-content/uploads/2020/09/LegacyRacingLogo.jpg
END:VEVENT
BEGIN:VEVENT
DTSTART;VALUE=DATE:20251110
DTEND;VALUE=DATE:20251115
DTSTAMP:20260424T055234
CREATED:20250820T180525Z
LAST-MODIFIED:20250820T180525Z
UID:13877-1762732800-1763164799@dirtsportsworld.com
SUMMARY:SCORE BAJA 1000  (Ensenada\, MX)
DESCRIPTION:
URL:https://dirtsportsworld.com/event/score-baja-1000-ensenada-mx/
LOCATION:ensenada\, Baja California\, Mexico
CATEGORIES:DESERT RACING
ATTACH;FMTTYPE=image/jpeg:https://dirtsportsworld.com/wp-content/uploads/2023/01/SCORE-International-Logo.jpg
END:VEVENT
BEGIN:VEVENT
DTSTART;VALUE=DATE:20251017
DTEND;VALUE=DATE:20251020
DTSTAMP:20260424T055234
CREATED:20250912T155933Z
LAST-MODIFIED:20250912T155933Z
UID:14050-1760659200-1760918399@dirtsportsworld.com
SUMMARY:CORR Racing Round 1 & 2 (Firebird Raceway)
DESCRIPTION:
URL:https://dirtsportsworld.com/event/corr-racing-round-1-2-firebird-raceway/
LOCATION:Firebird Raceway\, 20000 S Maricopa Rd\, Chandler\, AZ\, 85226\, United States
CATEGORIES:UTV
ATTACH;FMTTYPE=image/jpeg:https://dirtsportsworld.com/wp-content/uploads/2025/09/CORR-Racing.jpg
END:VEVENT
BEGIN:VEVENT
DTSTART;VALUE=DATE:20251016
DTEND;VALUE=DATE:20251020
DTSTAMP:20260424T055234
CREATED:20250908T170522Z
LAST-MODIFIED:20250908T170522Z
UID:14003-1760572800-1760918399@dirtsportsworld.com
SUMMARY:Ultra4 National Championships (Laughlin\, NV)
DESCRIPTION:
URL:https://dirtsportsworld.com/event/ultra4-national-championships-laughlin-nv/
LOCATION:Laughlin\, Laughlin\, NV\, United States
CATEGORIES:ROCK CRAWLING
ATTACH;FMTTYPE=image/jpeg:https://dirtsportsworld.com/wp-content/uploads/2023/02/Ultra4-Logo_Web.jpg
END:VEVENT
BEGIN:VEVENT
DTSTART;VALUE=DATE:20251015
DTEND;VALUE=DATE:20251020
DTSTAMP:20260424T055234
CREATED:20250820T174915Z
LAST-MODIFIED:20250820T174915Z
UID:13873-1760486400-1760918399@dirtsportsworld.com
SUMMARY:BITD Laughlin Desert Classic
DESCRIPTION:
URL:https://dirtsportsworld.com/event/bitd-laughlin-desert-classic/
LOCATION:Laughlin\, Laughlin\, NV\, United States
CATEGORIES:DESERT RACING
ATTACH;FMTTYPE=image/jpeg:https://dirtsportsworld.com/wp-content/uploads/2021/10/best-in-the-desert-logo-final.jpg
END:VEVENT
BEGIN:VEVENT
DTSTART;VALUE=DATE:20251009
DTEND;VALUE=DATE:20251013
DTSTAMP:20260424T055234
CREATED:20251006T221040Z
LAST-MODIFIED:20251006T221040Z
UID:14233-1759968000-1760313599@dirtsportsworld.com
SUMMARY:NORRA 500 (Ensenda\, MX)
DESCRIPTION:
URL:https://dirtsportsworld.com/event/norra-500-ensenda-mx/
LOCATION:ensenada\, Baja California\, Mexico
ATTACH;FMTTYPE=image/jpeg:https://dirtsportsworld.com/wp-content/uploads/2021/10/NORRA-LOGO.jpg
END:VEVENT
BEGIN:VEVENT
DTSTART;VALUE=DATE:20251009
DTEND;VALUE=DATE:20251013
DTSTAMP:20260424T055234
CREATED:20250911T214629Z
LAST-MODIFIED:20250911T214716Z
UID:14040-1759968000-1760313599@dirtsportsworld.com
SUMMARY:Legacy Racing Gold Rush (Virginia City to Tonopah)
DESCRIPTION:
URL:https://dirtsportsworld.com/event/legacy-racing-gold-rush-virginia-city-to-tonopah/
LOCATION:CA
CATEGORIES:DESERT RACING
ATTACH;FMTTYPE=image/jpeg:https://dirtsportsworld.com/wp-content/uploads/2020/09/LegacyRacingLogo.jpg
END:VEVENT
BEGIN:VEVENT
DTSTART;VALUE=DATE:20251004
DTEND;VALUE=DATE:20251006
DTSTAMP:20260424T055234
CREATED:20250222T203459Z
LAST-MODIFIED:20250222T203459Z
UID:12136-1759536000-1759708799@dirtsportsworld.com
SUMMARY:Off-Road Expo (Costa Mesa)
DESCRIPTION:
URL:https://dirtsportsworld.com/event/off-road-expo-costa-mesa/
LOCATION:Costa Mesa Fairgrounds\, 88 Fair Drive\, Costa Mesa\, CA\, United States
CATEGORIES:DESERT RACING,ROCK CRAWLING,UTV
END:VEVENT
BEGIN:VEVENT
DTSTART;VALUE=DATE:20250926
DTEND;VALUE=DATE:20250928
DTSTAMP:20260424T055234
CREATED:20241210T020007Z
LAST-MODIFIED:20241210T020007Z
UID:11305-1758844800-1759017599@dirtsportsworld.com
SUMMARY:Championship Off Road Glen Helen National  Glen Helen Raceway
DESCRIPTION:
URL:https://dirtsportsworld.com/event/championship-off-road-glen-helen-national-glen-helen-raceway/
LOCATION:Glen Helen Raceway\, 18585 Verdemont Ranch Rd\, San Bernardino\, CA\, 92407\, United States
CATEGORIES:SHORTCOURSE RACING
ATTACH;FMTTYPE=image/jpeg:https://dirtsportsworld.com/wp-content/uploads/2023/01/ChampOffRoadLogo.jpg
END:VEVENT
BEGIN:VEVENT
DTSTART;VALUE=DATE:20250919
DTEND;VALUE=DATE:20250922
DTSTAMP:20260424T055234
CREATED:20250820T174054Z
LAST-MODIFIED:20250820T174054Z
UID:13871-1758240000-1758499199@dirtsportsworld.com
SUMMARY:Sand Sports Super Show (OC Fair & Event Center)
DESCRIPTION:
URL:https://dirtsportsworld.com/event/sand-sports-super-show-oc-fair-event-center/
LOCATION:OC Fair and Event Center\, 88 Fair Drive\, Costa Mesa\, CA\, 92626\, United States
CATEGORIES:UTV
END:VEVENT
BEGIN:VEVENT
DTSTART;VALUE=DATE:20250919
DTEND;VALUE=DATE:20250921
DTSTAMP:20260424T055234
CREATED:20250826T165559Z
LAST-MODIFIED:20250826T165623Z
UID:13921-1758240000-1758412799@dirtsportsworld.com
SUMMARY:ULTRA4 King Shocks Nor Cal Final
DESCRIPTION:
URL:https://dirtsportsworld.com/event/ultra-4-king-shocks-nor-cal-final/
LOCATION:Rancho Cordova
CATEGORIES:ROCK CRAWLING
ATTACH;FMTTYPE=image/jpeg:https://dirtsportsworld.com/wp-content/uploads/2023/02/Ultra4-Logo_Web.jpg
END:VEVENT
BEGIN:VEVENT
DTSTART;VALUE=DATE:20250910
DTEND;VALUE=DATE:20250915
DTSTAMP:20260424T055234
CREATED:20250820T175626Z
LAST-MODIFIED:20250820T175626Z
UID:13875-1757462400-1757894399@dirtsportsworld.com
SUMMARY:SCORE Baja 400 (Ensenada MX)
DESCRIPTION:
URL:https://dirtsportsworld.com/event/score-baja-400-ensenada-mx/
LOCATION:ensenada\, Baja California\, Mexico
CATEGORIES:DESERT RACING
ATTACH;FMTTYPE=image/jpeg:https://dirtsportsworld.com/wp-content/uploads/2023/01/SCORE-International-Logo.jpg
END:VEVENT
END:VCALENDAR